BEGIN:VCALENDAR
VERSION:2.0
PRODID:-//eventon.com NONSGML v1.0//EN
CALSCALE:GREGORIAN
METHOD:PUBLISH
BEGIN:VEVENT
UID:69ea0254061c9
DTSTAMP:20260423T112820Z
DTSTART:20260724T151500Z
DTEND:20260724T170000Z
LOCATION:Parc Party Place de la Gare
SUMMARY:Tavadredi
DESCRIPTION:Tavadredi\nhttps://www.lesagendas.com/evenements/tavadredi/var/
 ri-21.l-L1
URL:https://www.lesagendas.com/evenements/tavadredi/var/ri-21.l-L1
END:VEVENT
END:VCALENDAR